Workbook

Sheet Summary
B2: Variance Analysis Model
C3: SUMMARY SHEET
K4: Magnimetrics.com
I7: VISUAL REPRESENTATION OF VARIANCES
C8: Sales Value Variance | D8: => | E8: =E10+E12 -> -6950
E9: =
C10: Sales Price Variance | D10: => | E10: ='Calculation Sheet'!$C$6 -> 1850 | H10: ='Calculation Sheet'!E4 -> Sales Value Variance
E11: + | H11: ='Calculation Sheet'!E5 -> Sales Price Variance
C12: Sales Volume Variance | D12: => | E12: =D14+D16 -> -8800 | H12: ='Calculation Sheet'!E6 -> Sales Volume Variance
H13: ='Calculation Sheet'!E7 -> Sales Mix Variance
C14: Sales Mix Variance | D14: ='Calculation Sheet'!$C$11 -> -2200 | H14: ='Calculation Sheet'!E8 -> Sales Quantity Variance
D15: + | H15: ='Calculation Sheet'!E9 -> Direct Material Variance
C16: Sales Quantity Variance | D16: ='Calculation Sheet'!$C$15 -> -6600 | H16: ='Calculation Sheet'!E10 -> Purchase Price Variance
H17: ='Calculation Sheet'!E11 -> Material Yield Variance
H18: ='Calculation Sheet'!E12 -> Direct Labour Cost Variance
H19: ='Calculation Sheet'!E13 -> Direct Labour Price Variance
C20: Direct Material Variance | D20: => | E20: =E22+E24 -> 700 | H20: ='Calculation Sheet'!E14 -> Direct Labour Quantity Variance
E21: = | H21: ='Calculation Sheet'!E15 -> Variable Production Overhead Variance
C22: Purchase Price Variance | D22: => | E22: ='Calculation Sheet'!C23 -> -2000 | H22: ='Calculation Sheet'!E16 -> Variable Overhead Spending Variance
E23: + | H23: ='Calculation Sheet'!E17 -> Variable Overhead Efficiency Variance
C24: Material Yield Variance | D24: => | E24: ='Calculation Sheet'!C27 -> 2700 | H24: ='Calculation Sheet'!E18 -> Fixed Overhead Expenditure Variance
H25: ='Calculation Sheet'!E19 -> Fixed Overhead Volume Variance
H26: ='Calculation Sheet'!E20 -> Fixed Overhead Capacity Variance
H27: ='Calculation Sheet'!E21 -> Fixed Overhead Efficiency Variance
C28: Direct Labour Cost Variance | D28: => | E28: =E30+E32 -> -150
E29: =
C30: Direct Labour Price Variance | D30: => | E30: ='Calculation Sheet'!C34 -> 2750
E31: +
C32: Direct Labour Quantity Variance | D32: => | E32: ='Calculation Sheet'!C38 -> -2900 | I32: Fixed Overhead Expenditure Variance | J32: => | K32: ='Calculation Sheet'!C56 -> -500
C36: Variable Production Overhead Variance | D36: => | E36: =E38+E40 -> -1500 | I36: Fixed Overhead Volume Variance | J36: => | K36: =K38+K40 -> 600
E37: = | K37: =
C38: Variable Overhead Spending Variance | D38: => | E38: ='Calculation Sheet'!C45 -> 500 | I38: Fixed Overhead Capacity Variance | J38: => | K38: ='Calculation Sheet'!C60 -> 1800
E39: + | K39: -
C40: Variable Overhead Efficiency Variance | D40: => | E40: ='Calculation Sheet'!C49 -> -2000 | I40: Fixed Overhead Efficiency Variance | J40: => | K40: ='Calculation Sheet'!C64 -> -1200
L44: Variance Analysis Model prepared by Magnimetrics
L45: Magnimetrics takes no responsibility for any losses that may arise from using the information within this file

Sheet Calculation Sheet
B2: * PLEASE FILL DATA IN CELLS MARKED AS | C2: Input Field
B4: SALES | E4: =B5 -> Sales Value Variance | F4: =C5 -> -6950
B5: Sales Value Variance | C5: =C10+C6 -> -6950 | E5: =B6 -> Sales Price Variance | F5: =C6 -> 1850
B6: Sales Price Variance | C6: =(C7-C8)*C9 -> 1850 | E6: =B10 -> Sales Volume Variance | F6: =C10 -> -8800
B7: Actual Price | C7: 4.5 | E7: =B11 -> Sales Mix Variance | F7: =C11 -> -2200
B8: Standard Price | C8: 4.4 | E8: =B15 -> Sales Quantity Variance | F8: =C15 -> -6600
B9: Actual Sold Quantity | C9: 18500 | E9: =B22 -> Direct Material Variance | F9: =C22 -> 700
B10: Sales Volume Variance | C10: =C15+C11 -> -8800 | E10: =B23 -> Purchase Price Variance | F10: =C23 -> -2000
B11: Sales Mix Variance | C11: =(C12-C13)*C14 -> -2200 | E11: =B27 -> Material Yield Variance | F11: =C27 -> 2700
B12: Actual quantity at actual mix | C12: 18500 | E12: =B33 -> Direct Labour Cost Variance | F12: =C33 -> -150
B13: Actual quantity at standard mix | C13: 19000 | E13: =B34 -> Direct Labour Price Variance | F13: =C34 -> 2750
B14: Standard price per unit | C14: 4.4 | E14: =B38 -> Direct Labour Quantity Variance | F14: =C38 -> -2900
B15: Sales Quantity Variance | C15: =(C16-C17)*C18 -> -6600 | E15: =B44 -> Variable Production Overhead Variance | F15: =C44 -> -1500
B16: Actual quantity at standard mix | C16: 19000 | E16: =B45 -> Variable Overhead Spending Variance | F16: =C45 -> 500
B17: Budgeted quantity at standard mix | C17: 20500 | E17: =B49 -> Variable Overhead Efficiency Variance | F17: =C49 -> -2000
B18: Standard price per unit | C18: 4.4 | E18: =B56 -> Fixed Overhead Expenditure Variance | F18: =C56 -> -500
E19: =B59 -> Fixed Overhead Volume Variance | F19: =C59 -> 600
E20: =B60 -> Fixed Overhead Capacity Variance | F20: =C60 -> 1800
B21: VARIABLE | E21: =B64 -> Fixed Overhead Efficiency Variance | F21: =C64 -> -1200
B22: Direct Material Variance | C22: =C27+C23 -> 700
B23: Purchase Price Variance | C23: =(C25-C24)*C26 -> -2000
B24: Actual Price | C24: 2.8 | E24: =E21 -> Fixed Overhead Efficiency Variance | F24: =F21 -> -1200
B25: Standard Price | C25: 2.7 | E25: =E20 -> Fixed Overhead Capacity Variance | F25: =F20 -> 1800
B26: Actual Quantity | C26: 20000 | E26: =E19 -> Fixed Overhead Volume Variance | F26: =F19 -> 600
B27: Material Yield Variance | C27: =(C29-C28)*C30 -> 2700 | E27: =E18 -> Fixed Overhead Expenditure Variance | F27: =F18 -> -500
B28: Actual Usage | C28: 20000 | E28: =E17 -> Variable Overhead Efficiency Variance | F28: =F17 -> -2000
B29: Standard Usage | C29: 21000 | E29: =E16 -> Variable Overhead Spending Variance | F29: =F16 -> 500
B30: Standard cost per unit | C30: 2.7 | E30: =E15 -> Variable Production Overhead Variance | F30: =F15 -> -1500
E31: =E14 -> Direct Labour Quantity Variance | F31: =F14 -> -2900
B32: VARIABLE | E32: =E13 -> Direct Labour Price Variance | F32: =F13 -> 2750
B33: Direct Labour Cost Variance | C33: =C38+C34 -> -150 | E33: =E12 -> Direct Labour Cost Variance | F33: =F12 -> -150
B34: Direct Labour Price Variance | C34: =(C35-C36)*C37 -> 2750 | E34: =E11 -> Material Yield Variance | F34: =F11 -> 2700
B35: Standard Rate | C35: 14.5 | E35: =E10 -> Purchase Price Variance | F35: =F10 -> -2000
B36: Actual Rate | C36: 13.4 | E36: =E9 -> Direct Material Variance | F36: =F9 -> 700
B37: Actual Hours | C37: 2500 | E37: =E8 -> Sales Quantity Variance | F37: =F8 -> -6600
B38: Direct Labour Quantity Variance | C38: =C39*(C40-C41) -> -2900 | E38: =E7 -> Sales Mix Variance | F38: =F7 -> -2200
B39: Standard Rate | C39: 14.5 | E39: =E6 -> Sales Volume Variance | F39: =F6 -> -8800
B40: Standard Hours | C40: 2300 | E40: =E5 -> Sales Price Variance | F40: =F5 -> 1850
B41: Actual Hours | C41: 2500 | E41: =E4 -> Sales Value Variance | F41: =F4 -> -6950
B43: VARIABLE
...
