Workbook

Sheet Trend-Sales
B2: Sales Trend
B3: Magnimetrics
B5: in EUR
L8: Approaches Comparison
L9: Approach | M9: 2014 | N9: 2015 | O9: 2016 | P9: 2017 | Q9: 2018 | R9: 2019 | S9: 2020 | T9: 2021
L10: Sales Historical | M10: ='Trend-Country'!C47 -> 92696770 | N10: ='Trend-Country'!D47 -> 1.3941293e+08 | O10: ='Trend-Country'!E47 -> 1.4223251e+08 | P10: ='Trend-Country'!F47 -> 1.2081698e+08 | Q10: ='Trend-Country'!G47 -> 1.5986922e+08
L11: Sales FC per Country | R11: ='Trend-Country'!H47 -> 1.8125306e+08 | S11: ='Trend-Country'!I47 -> 2.0005819e+08 | T11: ='Trend-Country'!J47 -> 2.191518e+08
L12: Sales FC per Group | R12: ='Trend-Group'!H26 -> 1.6767054e+08 | S12: ='Trend-Group'!I26 -> 1.8285736e+08 | T12: ='Trend-Group'!J26 -> 1.9804418e+08
L13: Sales FC on Total | R13: =_xlfn.FORECAST.LINEAR(R9,$M$10:$Q$10,$M$9:$Q$9) -> 1.6573037e+08 | S13: =_xlfn.FORECAST.LINEAR(S9,$M$10:$Q$10,$M$9:$Q$9) -> 1.7730526e+08 | T13: =_xlfn.FORECAST.LINEAR(T9,$M$10:$Q$10,$M$9:$Q$9) -> 1.8888015e+08
C22: Actual | H22: Forecast
B23: Group of Clients | C23: 2014 | D23: 2015 | E23: 2016 | F23: 2017 | G23: 2018 | H23: 2019 | I23: 2020 | J23: 2021
B24: Sales | C24: 92696770 | D24: 1.3941293e+08 | E24: 1.4223251e+08 | F24: 1.2081698e+08 | G24: 1.5986922e+08 | H24: =H23*$C$28+$C$29 -> 1.6573037e+08 | I24: =I23*$C$28+$C$29 -> 1.7730526e+08 | J24: =J23*$C$28+$C$29 -> 1.8888015e+08
B27: Trendline | C27: =B24 -> Sales
B28: Slope | C28: =SLOPE(C24:G24,C23:G23) -> 11574894
B29: Intercept | C29: =INTERCEPT(C24:G24,C23:G23) -> -2.3203981e+10

Sheet Trend-Group
B2: Foreign and Related Party Trend Analysis
B3: Magnimetrics
B5: in EUR
C22: Actual | H22: Forecast
B23: Group of Clients | C23: 2014 | D23: 2015 | E23: 2016 | F23: 2017 | G23: 2018 | H23: 2019 | I23: 2020 | J23: 2021
B24: Foreign | C24: 79507281 | D24: 1.1966891e+08 | E24: 1.38051e+08 | F24: 1.1609472e+08 | G24: 1.5722848e+08 | H24: =H23*$C$30+$C$31 -> 1.6767054e+08 | I24: =I23*$C$30+$C$31 -> 1.8285736e+08 | J24: =J23*$C$30+$C$31 -> 1.9804418e+08
B25: Related Parties | C25: 13189489 | D25: 19744025 | E25: 4181509.8 | F25: 4722259.7 | G25: 2640740.8 | H25: =IF(H23*$I$30+$I$31<0,0,H23*$I$30+$I$31) -> 0 | I25: =IF(I23*$I$30+$I$31<0,0,I23*$I$30+$I$31) -> 0 | J25: =IF(J23*$I$30+$I$31<0,0,J23*$I$30+$I$31) -> 0
B26: Total Sales | C26: =SUM(C24:C25) -> 92696770 | D26: =SUM(D24:D25) -> 1.3941293e+08 | E26: =SUM(E24:E25) -> 1.4223251e+08 | F26: =SUM(F24:F25) -> 1.2081698e+08 | G26: =SUM(G24:G25) -> 1.5986922e+08 | H26: =SUM(H24:H25) -> 1.6767054e+08 | I26: =SUM(I24:I25) -> 1.8285736e+08 | J26: =SUM(J24:J25) -> 1.9804418e+08
B29: Trendline | C29: =B24 -> Foreign | H29: Trendline | I29: =B25 -> Related Parties
B30: Slope | C30: =SLOPE(C24:G24,C23:G23) -> 15186821 | H30: Slope | I30: =SLOPE(C25:G25,C23:G23) -> -3611926.2
B31: Intercept | C31: =INTERCEPT(C24:G24,C23:G23) -> -3.049452e+10 | H31: Intercept | I31: =INTERCEPT(C25:G25,C23:G23) -> 7.2905389e+09

Sheet Trend-Country
B2: Sales Analysis per Country
B3: Magnimetrics
B5: in EUR | C5: =C6/C47 -> 0.93844322 | D5: =D6/D47 -> 0.96218398 | E5: =E6/E47 -> 0.94295233 | F5: =F6/F47 -> 0.9293393 | G5: =G6/G47 -> 0.89279485
C6: =SUM(C9:C28) -> 86990655 | D6: =SUM(D9:D28) -> 1.3414089e+08 | E6: =SUM(E9:E28) -> 1.3411848e+08 | F6: =SUM(F9:F28) -> 1.1227997e+08 | G6: =SUM(G9:G28) -> 1.4273041e+08 | H6: =SUM(H9:H28) -> 1.5195523e+08 | I6: =SUM(I9:I28) -> 1.6340924e+08 | J6: =SUM(J9:J28) -> 1.7515015e+08
C7: Actual | H7: Forecast
B8: Country | C8: 2014 | D8: 2015 | E8: 2016 | F8: 2017 | G8: 2018 | H8: 2019 | I8: 2020 | J8: 2021
B9: China | C9: 17998009 | D9: 28898864 | E9: 20066239 | F9: 13515433 | G9: 16253130 | H9: =IF(_xlfn.FORECAST.LINEAR(H$8,$C9:$G9,$C$8:$G$8)<0,0,_xlfn.FORECAST.LINEAR(H$8,$C9:$G9,$C$8:$G$8)) -> 13684379 | I9: =IF(_xlfn.FORECAST.LINEAR(I$8,$C9:$G9,$C$8:$G$8)<0,0,_xlfn.FORECAST.LINEAR(I$8,$C9:$G9,$C$8:$G$8)) -> 11797060 | J9: =IF(_xlfn.FORECAST.LINEAR(J$8,$C9:$G9,$C$8:$G$8)<0,0,_xlfn.FORECAST.LINEAR(J$8,$C9:$G9,$C$8:$G$8)) -> 9909741.6
B10: Finland | C10: 16866377 | D10: 20002217 | E10: 18154541 | F10: 20301291 | G10: 13417240 | H10: =IF(_xlfn.FORECAST.LINEAR(H$8,$C10:$G10,$C$8:$G$8)<0,0,_xlfn.FORECAST.LINEAR(H$8,$C10:$G10,$C$8:$G$8)) -> 15768573 | I10: =IF(_xlfn.FORECAST.LINEAR(I$8,$C10:$G10,$C$8:$G$8)<0,0,_xlfn.FORECAST.LINEAR(I$8,$C10:$G10,$C$8:$G$8)) -> 15108653 | J10: =IF(_xlfn.FORECAST.LINEAR(J$8,$C10:$G10,$C$8:$G$8)<0,0,_xlfn.FORECAST.LINEAR(J$8,$C10:$G10,$C$8:$G$8)) -> 14448733
B11: Mexico | C11: 16171467 | D11: 20572343 | E11: 13006683 | F11: 10671935 | G11: 14344023 | H11: =IF(_xlfn.FORECAST.LINEAR(H$8,$C11:$G11,$C$8:$G$8)<0,0,_xlfn.FORECAST.LINEAR(H$8,$C11:$G11,$C$8:$G$8)) -> 10886701 | I11: =IF(_xlfn.FORECAST.LINEAR(I$8,$C11:$G11,$C$8:$G$8)<0,0,_xlfn.FORECAST.LINEAR(I$8,$C11:$G11,$C$8:$G$8)) -> 9531171.3 | J11: =IF(_xlfn.FORECAST.LINEAR(J$8,$C11:$G11,$C$8:$G$8)<0,0,_xlfn.FORECAST.LINEAR(J$8,$C11:$G11,$C$8:$G$8)) -> 8175641.6
B12: Brazil | C12: 145270.99 | D12: 3536381.2 | E12: 16034277 | F12: 20793505 | G12: 21901979 | H12: =IF(_xlfn.FORECAST.LINEAR(H$8,$C12:$G12,$C$8:$G$8)<0,0,_xlfn.FORECAST.LINEAR(H$8,$C12:$G12,$C$8:$G$8)) -> 30713444 | I12: =IF(_xlfn.FORECAST.LINEAR(I$8,$C12:$G12,$C$8:$G$8)<0,0,_xlfn.FORECAST.LINEAR(I$8,$C12:$G12,$C$8:$G$8)) -> 36790498 | J12: =IF(_xlfn.FORECAST.LINEAR(J$8,$C12:$G12,$C$8:$G$8)<0,0,_xlfn.FORECAST.LINEAR(J$8,$C12:$G12,$C$8:$G$8)) -> 42867552
B13: Madagascar | C13: 5700227.4 | D13: 9621657.5 | E13: 10833930 | F13: 8290055.2 | G13: 6941169.1 | H13: =IF(_xlfn.FORECAST.LINEAR(H$8,$C13:$G13,$C$8:$G$8)<0,0,_xlfn.FORECAST.LINEAR(H$8,$C13:$G13,$C$8:$G$8)) -> 8622492.2 | I13: =IF(_xlfn.FORECAST.LINEAR(I$8,$C13:$G13,$C$8:$G$8)<0,0,_xlfn.FORECAST.LINEAR(I$8,$C13:$G13,$C$8:$G$8)) -> 8737520.3 | J13: =IF(_xlfn.FORECAST.LINEAR(J$8,$C13:$G13,$C$8:$G$8)<0,0,_xlfn.FORECAST.LINEAR(J$8,$C13:$G13,$C$8:$G$8)) -> 8852548.5
B14: Indonesia | C14: 7063267.5 | D14: 8522716.6 | E14: 7274854.4 | F14: 1063449.2 | G14: 15838404 | H14: =IF(_xlfn.FORECAST.LINEAR(H$8,$C14:$G14,$C$8:$G$8)<0,0,_xlfn.FORECAST.LINEAR(H$8,$C14:$G14,$C$8:$G$8)) -> 10979840 | I14: =IF(_xlfn.FORECAST.LINEAR(I$8,$C14:$G14,$C$8:$G$8)<0,0,_xlfn.FORECAST.LINEAR(I$8,$C14:$G14,$C$8:$G$8)) -> 11988941 | J14: =IF(_xlfn.FORECAST.LINEAR(J$8,$C14:$G14,$C$8:$G$8)<0,0,_xlfn.FORECAST.LINEAR(J$8,$C14:$G14,$C$8:$G$8)) -> 12998042
B15: Japan | C15: 678728.9 | D15: 1548278.8 | E15: 8264505.7 | F15: 8045382.9 | G15: 7673656.5 | H15: =IF(_xlfn.FORECAST.LINEAR(H$8,$C15:$G15,$C$8:$G$8)<0,0,_xlfn.FORECAST.LINEAR(H$8,$C15:$G15,$C$8:$G$8)) -> 11388198 | I15: =IF(_xlfn.FORECAST.LINEAR(I$8,$C15:$G15,$C$8:$G$8)<0,0,_xlfn.FORECAST.LINEAR(I$8,$C15:$G15,$C$8:$G$8)) -> 13436894 | J15: =IF(_xlfn.FORECAST.LINEAR(J$8,$C15:$G15,$C$8:$G$8)<0,0,_xlfn.FORECAST.LINEAR(J$8,$C15:$G15,$C$8:$G$8)) -> 15485590
B16: United States | C16: 3206489.7 | D16: 2142231.7 | E16: 13122243 | F16: 3718331.4 | G16: 2867336.5 | H16: =IF(_xlfn.FORECAST.LINEAR(H$8,$C16:$G16,$C$8:$G$8)<0,0,_xlfn.FORECAST.LINEAR(H$8,$C16:$G16,$C$8:$G$8)) -> 5280664.4 | I16: =IF(_xlfn.FORECAST.LINEAR(I$8,$C16:$G16,$C$8:$G$8)<0,0,_xlfn.FORECAST.LINEAR(I$8,$C16:$G16,$C$8:$G$8)) -> 5370443.7 | J16: =IF(_xlfn.FORECAST.LINEAR(J$8,$C16:$G16,$C$8:$G$8)<0,0,_xlfn.FORECAST.LINEAR(J$8,$C16:$G16,$C$8:$G$8)) -> 5460223
B17: Malaysia | C17: 435644.16 | D17: 1623657.9 | E17: 2685642.3 | F17: 4288530.7 | G17: 13623870 | H17: =IF(_xlfn.FORECAST.LINEAR(H$8,$C17:$G17,$C$8:$G$8)<0,0,_xlfn.FORECAST.LINEAR(H$8,$C17:$G17,$C$8:$G$8)) -> 13243867 | I17: =IF(_xlfn.FORECAST.LINEAR(I$8,$C17:$G17,$C$8:$G$8)<0,0,_xlfn.FORECAST.LINEAR(I$8,$C17:$G17,$C$8:$G$8)) -> 16147999 | J17: =IF(_xlfn.FORECAST.LINEAR(J$8,$C17:$G17,$C$8:$G$8)<0,0,_xlfn.FORECAST.LINEAR(J$8,$C17:$G17,$C$8:$G$8)) -> 19052132
B18: Portugal | C18: 3515728.6 | D18: 2553686.4 | E18: 3187715.6 | F18: 32806.2 | G18: 11462119 | H18: =IF(_xlfn.FORECAST.LINEAR(H$8,$C18:$G18,$C$8:$G$8)<0,0,_xlfn.FORECAST.LINEAR(H$8,$C18:$G18,$C$8:$G$8)) -> 8161981.4 | I18: =IF(_xlfn.FORECAST.LINEAR(I$8,$C18:$G18,$C$8:$G$8)<0,0,_xlfn.FORECAST.LINEAR(I$8,$C18:$G18,$C$8:$G$8)) -> 9499171.4 | J18: =IF(_xlfn.FORECAST.LINEAR(J$8,$C18:$G18,$C$8:$G$8)<0,0,_xlfn.FORECAST.LINEAR(J$8,$C18:$G18,$C$8:$G$8)) -> 10836362
B19: Argentina | C19: 3363545.8 | D19: 6927718.9 | E19: 3359498.3 | F19: 4466675.2 | G19: 1844898.6 | H19: =IF(_xlfn.FORECAST.LINEAR(H$8,$C19:$G19,$C$8:$G$8)<0,0,_xlfn.FORECAST.LINEAR(H$8,$C19:$G19,$C$8:$G$8)) -> 2342965.9 | I19: =IF(_xlfn.FORECAST.LINEAR(I$8,$C19:$G19,$C$8:$G$8)<0,0,_xlfn.FORECAST.LINEAR(I$8,$C19:$G19,$C$8:$G$8)) -> 1793132.1 | J19: =IF(_xlfn.FORECAST.LINEAR(J$8,$C19:$G19,$C$8:$G$8)<0,0,_xlfn.FORECAST.LINEAR(J$8,$C19:$G19,$C$8:$G$8)) -> 1243298.3
B20: Cambodia | C20: 1656860.9 | D20: 2643874.9 | E20: 3910095.6 | F20: 3709304.5 | G20: 4255330.2 | H20: =IF(_xlfn.FORECAST.LINEAR(H$8,$C20:$G20,$C$8:$G$8)<0,0,_xlfn.FORECAST.LINEAR(H$8,$C20:$G20,$C$8:$G$8)) -> 5113803.7 | I20: =IF(_xlfn.FORECAST.LINEAR(I$8,$C20:$G20,$C$8:$G$8)<0,0,_xlfn.FORECAST.LINEAR(I$8,$C20:$G20,$C$8:$G$8)) -> 5740040.5 | J20: =IF(_xlfn.FORECAST.LINEAR(J$8,$C20:$G20,$C$8:$G$8)<0,0,_xlfn.FORECAST.LINEAR(J$8,$C20:$G20,$C$8:$G$8)) -> 6366277.3
... B28: Morocco | C28: 2276618.7 | D28: 3272032.7 | E28: 598258.54 | F28: 147 | G28: 0 | H28: =IF(_xlfn.FORECAST.LINEAR(H$8,$C28:$G28,$C$8:$G$8)<0,0,_xlfn.FORECAST.LINEAR(H$8,$C28:$G28,$C$8:$G$8)) -> 0 | I28: =IF(_xlfn.FORECAST.LINEAR(I$8,$C28:$G28,$C$8:$G$8)<0,0,_xlfn.FORECAST.LINEAR(I$8,$C28:$G28,$C$8:$G$8)) -> 0 | J28: =IF(_xlfn.FORECAST.LINEAR(J$8,$C28:$G28,$C$8:$G$8)<0,0,_xlfn.FORECAST.LINEAR(J$8,$C28:$G28,$C$8:$G$8)) -> 0
B47: Total Sales | C47: =SUM(C50:C161) -> 92696770 | D47: =SUM(D50:D161) -> 1.3941293e+08 | E47: =SUM(E50:E161) -> 1.4223251e+08 | F47: =SUM(F50:F161) -> 1.2081698e+08 | G47: =SUM(G50:G161) -> 1.5986922e+08 | H47: =SUM(H50:H161) -> 1.8125306e+08 | I47: =SUM(I50:I161) -> 2.0005819e+08 | J47: =SUM(J50:J161) -> 2.191518e+08
C48: Actual | H48: Forecast
B49: Country | C49: 2014 | D49: 2015 | E49: 2016 | F49: 2017 | G49: 2018 | H49: 2019 | I49: 2020 | J49: 2021
B50: China | C50: 17998009 | D50: 28898864 | E50: 20066239 | F50: 13515433 | G50: 16253130 | H50: =IFERROR(IF(_xlfn.FORECAST.LINEAR(H$49,$C50:$G50,$C$49:$G$49)<0,0,_xlfn.FORECAST.LINEAR(H$49,$C50:$G50,$C$49:$G$49)),0) -> 13684379 | I50: =IFERROR(IF(_xlfn.FORECAST.LINEAR(I$49,$C50:$G50,$C$49:$G$49)<0,0,_xlfn.FORECAST.LINEAR(I$49,$C50:$G50,$C$49:$G$49)),0) -> 11797060 | J50: =IFERROR(IF(_xlfn.FORECAST.LINEAR(J$49,$C50:$G50,$C$49:$G$49)<0,0,_xlfn.FORECAST.LINEAR(J$49,$C50:$G50,$C$49:$G$49)),0) -> 9909741.6
B51: Finland | C51: 16866377 | D51: 20002217 | E51: 18154541 | F51: 20301291 | G51: 13417240 | H51: =IFERROR(IF(_xlfn.FORECAST.LINEAR(H$49,$C51:$G51,$C$49:$G$49)<0,0,_xlfn.FORECAST.LINEAR(H$49,$C51:$G51,$C$49:$G$49)),0) -> 15768573 | I51: =IFERROR(IF(_xlfn.FORECAST.LINEAR(I$49,$C51:$G51,$C$49:$G$49)<0,0,_xlfn.FORECAST.LINEAR(I$49,$C51:$G51,$C$49:$G$49)),0) -> 15108653 | J51: =IFERROR(IF(_xlfn.FORECAST.LINEAR(J$49,$C51:$G51,$C$49:$G$49)<0,0,_xlfn.FORECAST.LINEAR(J$49,$C51:$G51,$C$49:$G$49)),0) -> 14448733
B52: Mexico | C52: 16171467 | D52: 20572343 | E52: 13006683 | F52: 10671935 | G52: 14344023 | H52: =IFERROR(IF(_xlfn.FORECAST.LINEAR(H$49,$C52:$G52,$C$49:$G$49)<0,0,_xlfn.FORECAST.LINEAR(H$49,$C52:$G52,$C$49:$G$49)),0) -> 10886701 | I52: =IFERROR(IF(_xlfn.FORECAST.LINEAR(I$49,$C52:$G52,$C$49:$G$49)<0,0,_xlfn.FORECAST.LINEAR(I$49,$C52:$G52,$C$49:$G$49)),0) -> 9531171.3 | J52: =IFERROR(IF(_xlfn.FORECAST.LINEAR(J$49,$C52:$G52,$C$49:$G$49)<0,0,_xlfn.FORECAST.LINEAR(J$49,$C52:$G52,$C$49:$G$49)),0) -> 8175641.6
B53: Brazil | C53: 145270.99 | D53: 3536381.2 | E53: 16034277 | F53: 20793505 | G53: 21901979 | H53: =IFERROR(IF(_xlfn.FORECAST.LINEAR(H$49,$C53:$G53,$C$49:$G$49)<0,0,_xlfn.FORECAST.LINEAR(H$49,$C53:$G53,$C$49:$G$49)),0) -> 30713444 | I53: =IFERROR(IF(_xlfn.FORECAST.LINEAR(I$49,$C53:$G53,$C$49:$G$49)<0,0,_xlfn.FORECAST.LINEAR(I$49,$C53:$G53,$C$49:$G$49)),0) -> 36790498 | J53: =IFERROR(IF(_xlfn.FORECAST.LINEAR(J$49,$C53:$G53,$C$49:$G$49)<0,0,_xlfn.FORECAST.LINEAR(J$49,$C53:$G53,$C$49:$G$49)),0) -> 42867552
B54: Madagascar | C54: 5700227.4 | D54: 9621657.5 | E54: 10833930 | F54: 8290055.2 | G54: 6941169.1 | H54: =IFERROR(IF(_xlfn.FORECAST.LINEAR(H$49,$C54:$G54,$C$49:$G$49)<0,0,_xlfn.FORECAST.LINEAR(H$49,$C54:$G54,$C$49:$G$49)),0) -> 8622492.2 | I54: =IFERROR(IF(_xlfn.FORECAST.LINEAR(I$49,$C54:$G54,$C$49:$G$49)<0,0,_xlfn.FORECAST.LINEAR(I$49,$C54:$G54,$C$49:$G$49)),0) -> 8737520.3 | J54: =IFERROR(IF(_xlfn.FORECAST.LINEAR(J$49,$C54:$G54,$C$49:$G$49)<0,0,_xlfn.FORECAST.LINEAR(J$49,$C54:$G54,$C$49:$G$49)),0) -> 8852548.5
B55: Indonesia | C55: 7063267.5 | D55: 8522716.6 | E55: 7274854.4 | F55: 1063449.2 | G55: 15838404 | H55: =IFERROR(IF(_xlfn.FORECAST.LINEAR(H$49,$C55:$G55,$C$49:$G$49)<0,0,_xlfn.FORECAST.LINEAR(H$49,$C55:$G55,$C$49:$G$49)),0) -> 10979840 | I55: =IFERROR(IF(_xlfn.FORECAST.LINEAR(I$49,$C55:$G55,$C$49:$G$49)<0,0,_xlfn.FORECAST.LINEAR(I$49,$C55:$G55,$C$49:$G$49)),0) -> 11988941 | J55: =IFERROR(IF(_xlfn.FORECAST.LINEAR(J$49,$C55:$G55,$C$49:$G$49)<0,0,_xlfn.FORECAST.LINEAR(J$49,$C55:$G55,$C$49:$G$49)),0) -> 12998042
B56: Japan | C56: 678728.9 | D56: 1548278.8 | E56: 8264505.7 | F56: 8045382.9 | G56: 7673656.5 | H56: =IFERROR(IF(_xlfn.FORECAST.LINEAR(H$49,$C56:$G56,$C$49:$G$49)<0,0,_xlfn.FORECAST.LINEAR(H$49,$C56:$G56,$C$49:$G$49)),0) -> 11388198 | I56: =IFERROR(IF(_xlfn.FORECAST.LINEAR(I$49,$C56:$G56,$C$49:$G$49)<0,0,_xlfn.FORECAST.LINEAR(I$49,$C56:$G56,$C$49:$G$49)),0) -> 13436894 | J56: =IFERROR(IF(_xlfn.FORECAST.LINEAR(J$49,$C56:$G56,$C$49:$G$49)<0,0,_xlfn.FORECAST.LINEAR(J$49,$C56:$G56,$C$49:$G$49)),0) -> 15485590
B57: United States | C57: 3206489.7 | D57: 2142231.7 | E57: 13122243 | F57: 3718331.4 | G57: 2867336.5 | H57: =IFERROR(IF(_xlfn.FORECAST.LINEAR(H$49,$C57:$G57,$C$49:$G$49)<0,0,_xlfn.FORECAST.LINEAR(H$49,$C57:$G57,$C$49:$G$49)),0) -> 5280664.4 | I57: =IFERROR(IF(_xlfn.FORECAST.LINEAR(I$49,$C57:$G57,$C$49:$G$49)<0,0,_xlfn.FORECAST.LINEAR(I$49,$C57:$G57,$C$49:$G$49)),0) -> 5370443.7 | J57: =IFERROR(IF(_xlfn.FORECAST.LINEAR(J$49,$C57:$G57,$C$49:$G$49)<0,0,_xlfn.FORECAST.LINEAR(J$49,$C57:$G57,$C$49:$G$49)),0) -> 5460223
B58: Malaysia | C58: 435644.16 | D58: 1623657.9 | E58: 2685642.3 | F58: 4288530.7 | G58: 13623870 | H58: =IFERROR(IF(_xlfn.FORECAST.LINEAR(H$49,$C58:$G58,$C$49:$G$49)<0,0,_xlfn.FORECAST.LINEAR(H$49,$C58:$G58,$C$49:$G$49)),0) -> 13243867 | I58: =IFERROR(IF(_xlfn.FORECAST.LINEAR(I$49,$C58:$G58,$C$49:$G$49)<0,0,_xlfn.FORECAST.LINEAR(I$49,$C58:$G58,$C$49:$G$49)),0) -> 16147999 | J58: =IFERROR(IF(_xlfn.FORECAST.LINEAR(J$49,$C58:$G58,$C$49:$G$49)<0,0,_xlfn.FORECAST.LINEAR(J$49,$C58:$G58,$C$49:$G$49)),0) -> 19052132
B59: Portugal | C59: 3515728.6 | D59: 2553686.4 | E59: 3187715.6 | F59: 32806.2 | G59: 11462119 | H59: =IFERROR(IF(_xlfn.FORECAST.LINEAR(H$49,$C59:$G59,$C$49:$G$49)<0,0,_xlfn.FORECAST.LINEAR(H$49,$C59:$G59,$C$49:$G$49)),0) -> 8161981.4 | I59: =IFERROR(IF(_xlfn.FORECAST.LINEAR(I$49,$C59:$G59,$C$49:$G$49)<0,0,_xlfn.FORECAST.LINEAR(I$49,$C59:$G59,$C$49:$G$49)),0) -> 9499171.4 | J59: =IFERROR(IF(_xlfn.FORECAST.LINEAR(J$49,$C59:$G59,$C$49:$G$49)<0,0,_xlfn.FORECAST.LINEAR(J$49,$C59:$G59,$C$49:$G$49)),0) -> 10836362
B60: Argentina | C60: 3363545.8 | D60: 6927718.9 | E60: 3359498.3 | F60: 4466675.2 | G60: 1844898.6 | H60: =IFERROR(IF(_xlfn.FORECAST.LINEAR(H$49,$C60:$G60,$C$49:$G$49)<0,0,_xlfn.FORECAST.LINEAR(H$49,$C60:$G60,$C$49:$G$49)),0) -> 2342965.9 | I60: =IFERROR(IF(_xlfn.FORECAST.LINEAR(I$49,$C60:$G60,$C$49:$G$49)<0,0,_xlfn.FORECAST.LINEAR(I$49,$C60:$G60,$C$49:$G$49)),0) -> 1793132.1 | J60: =IFERROR(IF(_xlfn.FORECAST.LINEAR(J$49,$C60:$G60,$C$49:$G$49)<0,0,_xlfn.FORECAST.LINEAR(J$49,$C60:$G60,$C$49:$G$49)),0) -> 1243298.3
B61: Cambodia | C61: 1656860.9 | D61: 2643874.9 | E61: 3910095.6 | F61: 3709304.5 | G61: 4255330.2 | H61: =IFERROR(IF(_xlfn.FORECAST.LINEAR(H$49,$C61:$G61,$C$49:$G$49)<0,0,_xlfn.FORECAST.LINEAR(H$49,$C61:$G61,$C$49:$G$49)),0) -> 5113803.7 | I61: =IFERROR(IF(_xlfn.FORECAST.LINEAR(I$49,$C61:$G61,$C$49:$G$49)<0,0,_xlfn.FORECAST.LINEAR(I$49,$C61:$G61,$C$49:$G$49)),0) -> 5740040.5 | J61: =IFERROR(IF(_xlfn.FORECAST.LINEAR(J$49,$C61:$G61,$C$49:$G$49)<0,0,_xlfn.FORECAST.LINEAR(J$49,$C61:$G61,$C$49:$G$49)),0) -> 6366277.3
... B68: Poland | C68: 1917844 | D68: 1644738 | E68: 1262009.9 | F68: 824295.65 | G68: 692454.34 | H68: =IFERROR(IF(_xlfn.FORECAST.LINEAR(H$49,$C68:$G68,$C$49:$G$49)<0,0,_xlfn.FORECAST.LINEAR(H$49,$C68:$G68,$C$49:$G$49)),0) -> 286901.87 | I68: =IFERROR(IF(_xlfn.FORECAST.LINEAR(I$49,$C68:$G68,$C$49:$G$49)<0,0,_xlfn.FORECAST.LINEAR(I$49,$C68:$G68,$C$49:$G$49)),0) -> 0 | J68: =IFERROR(IF(_xlfn.FORECAST.LINEAR(J$49,$C68:$G68,$C$49:$G$49)<0,0,_xlfn.FORECAST.LINEAR(J$49,$C68:$G68,$C$49:$G$49)),0) -> 0
B69: Morocco | C69: 2276618.7 | D69: 3272032.7 | E69: 598258.54 | F69: 147 | H69: =IFERROR(IF(_xlfn.FORECAST.LINEAR(H$49,$C69:$G69,$C$49:$G$49)<0,0,_xlfn.FORECAST.LINEAR(H$49,$C69:$G69,$C$49:$G$49)),0) -> 0 | I69: =IFERROR(IF(_xlfn.FORECAST.LINEAR(I$49,$C69:$G69,$C$49:$G$49)<0,0,_xlfn.FORECAST.LINEAR(I$49,$C69:$G69,$C$49:$G$49)),0) -> 0 | J69: =IFERROR(IF(_xlfn.FORECAST.LINEAR(J$49,$C69:$G69,$C$49:$G$49)<0,0,_xlfn.FORECAST.LINEAR(J$49,$C69:$G69,$C$49:$G$49)),0) -> 0
B70: Central African Republic | D70: 7513.8 | E70: 479842.1 | F70: 221596.2 | G70: 4409545.4 | H70: =IFERROR(IF(_xlfn.FORECAST.LINEAR(H$49,$C70:$G70,$C$49:$G$49)<0,0,_xlfn.FORECAST.LINEAR(H$49,$C70:$G70,$C$49:$G$49)),0) -> 4516586.6 | I70: =IFERROR(IF(_xlfn.FORECAST.LINEAR(I$49,$C70:$G70,$C$49:$G$49)<0,0,_xlfn.FORECAST.LINEAR(I$49,$C70:$G70,$C$49:$G$49)),0) -> 5811371.5 | J70: =IFERROR(IF(_xlfn.FORECAST.LINEAR(J$49,$C70:$G70,$C$49:$G$49)<0,0,_xlfn.FORECAST.LINEAR(J$49,$C70:$G70,$C$49:$G$49)),0) -> 7106156.4
B71: Venezuela | C71: 115182.14 | D71: -7408.842 | E71: 25550.28 | F71: 3780 | G71: 3127168 | H71: =IFERROR(IF(_xlfn.FORECAST.LINEAR(H$49,$C71:$G71,$C$49:$G$49)<0,0,_xlfn.FORECAST.LINEAR(H$49,$C71:$G71,$C$49:$G$49)),0) -> 2463402.5 | I71: =IFERROR(IF(_xlfn.FORECAST.LINEAR(I$49,$C71:$G71,$C$49:$G$49)<0,0,_xlfn.FORECAST.LINEAR(I$49,$C71:$G71,$C$49:$G$49)),0) -> 3066918.5 | J71: =IFERROR(IF(_xlfn.FORECAST.LINEAR(J$49,$C71:$G71,$C$49:$G$49)<0,0,_xlfn.FORECAST.LINEAR(J$49,$C71:$G71,$C$49:$G$49)),0) -> 3670434.6
B72: Saint Kitts and Nevis | E72: 103794.6 | F72: 706353.9 | G72: 2446573.5 | H72: =IFERROR(IF(_xlfn.FORECAST.LINEAR(H$49,$C72:$G72,$C$49:$G$49)<0,0,_xlfn.FORECAST.LINEAR(H$49,$C72:$G72,$C$49:$G$49)),0) -> 3428352.9 | I72: =IFERROR(IF(_xlfn.FORECAST.LINEAR(I$49,$C72:$G72,$C$49:$G$49)<0,0,_xlfn.FORECAST.LINEAR(I$49,$C72:$G72,$C$49:$G$49)),0) -> 4599742.3 | J72: =IFERROR(IF(_xlfn.FORECAST.LINEAR(J$49,$C72:$G72,$C$49:$G$49)<0,0,_xlfn.FORECAST.LINEAR(J$49,$C72:$G72,$C$49:$G$49)),0) -> 5771131.8
B73: Germany | E73: 16955.4 | F73: 2997762.8 | H73: =IFERROR(IF(_xlfn.FORECAST.LINEAR(H$49,$C73:$G73,$C$49:$G$49)<0,0,_xlfn.FORECAST.LINEAR(H$49,$C73:$G73,$C$49:$G$49)),0) -> 8959377.6 | I73: =IFERROR(IF(_xlfn.FORECAST.LINEAR(I$49,$C73:$G73,$C$49:$G$49)<0,0,_xlfn.FORECAST.LINEAR(I$49,$C73:$G73,$C$49:$G$49)),0) -> 11940185 | J73: =IFERROR(IF(_xlfn.FORECAST.LINEAR(J$49,$C73:$G73,$C$49:$G$49)<0,0,_xlfn.FORECAST.LINEAR(J$49,$C73:$G73,$C$49:$G$49)),0) -> 14920992
...

Sheet Pivots
B2: Sales Aggregation Tables
B3: Magnimetrics
B5: in EUR
B7: Pivot Tables | C7: 2014 | D7: 2015 | E7: 2016 | F7: 2017 | G7: 2018
B9: Sum of Amount | C9: Column Labels
B10: Row Labels | C10: 2014 | D10: 2015 | E10: 2016 | F10: 2017 | G10: 2018
B11: Foreign | C11: 79507281 | D11: 1.1966891e+08 | E11: 1.38051e+08 | F11: 1.1609472e+08 | G11: 1.5722848e+08
B12: Related Parties | C12: 13189489 | D12: 19744025 | E12: 4181509.8 | F12: 4722259.7 | G12: 2640740.8
B13: Grand Total | C13: 92696770 | D13: 1.3941293e+08 | E13: 1.4223251e+08 | F13: 1.2081698e+08 | G13: 1.5986922e+08
B16: Sum of Amount | C16: Column Labels
B17: Row Labels | C17: 2014 | D17: 2015 | E17: 2016 | F17: 2017 | G17: 2018
B18: Air | C18: 50.4 | D18: 8089.494 | E18: 0 | F18: 797.58 | G18: 84.672
B19: Client pick-up | C19: 22033204 | D19: 30099074 | E19: 9967818.6 | F19: 6640488 | G19: 8829152.5
B20: Container | C20: 1240696.4 | D20: 10532115 | E20: 10308059 | F20: 535979.56 | G20: 3576389.8
B21: DHL | D21: 16745.526 | E21: 12851.16 | F21: 32747.4 | G21: 3990.966
B22: Railroad | E22: 20565.72 | F22: 98728.14 | G22: 75365.262
B23: TNT | C23: 25858.728 | D23: 123281.93 | E23: 87541.062 | F23: 9859.206 | G23: 25418.82
B24: Truck | C24: 69389772 | D24: 98627575 | E24: 1.2183806e+08 | F24: 1.1338667e+08 | G24: 1.4722931e+08
B25: UPS | C25: 7188.552 | D25: 6051.78 | E25: -2385.18 | F25: 111713.07 | G25: 129502.55
B26: Grand Total | C26: 92696770 | D26: 1.3941293e+08 | E26: 1.4223251e+08 | F26: 1.2081698e+08 | G26: 1.5986922e+08
B29: Sum of Amount | C29: Column Labels
B30: Row Labels | C30: 2014 | D30: 2015 | E30: 2016 | F30: 2017 | G30: 2018 | J30: 2014 | K30: 2015 | L30: 2016 | M30: 2017 | N30: 2018 | O30: Total
B31: Aland Islands | E31: 15804.558 | I31: China | J31: 17998009 | K31: 28898864 | L31: 20066239 | M31: 13515433 | N31: 16253130 | O31: =SUM(J31:N31) -> 96731675
B32: Albania | C32: 2787.834 | E32: 15284.304 | F32: 3804.36 | G32: 30020.886 | I32: Finland | J32: 16866377 | K32: 20002217 | L32: 18154541 | M32: 20301291 | N32: 13417240 | O32: =SUM(J32:N32) -> 88741666
B33: American Samoa | E33: 147 | I33: Mexico | J33: 16171467 | K33: 20572343 | L33: 13006683 | M33: 10671935 | N33: 14344023 | O33: =SUM(J33:N33) -> 74766450
B34: Angola | C34: 89460 | I34: Brazil | J34: 145270.99 | K34: 3536381.2 | L34: 16034277 | M34: 20793505 | N34: 21901979 | O34: =SUM(J34:N34) -> 62411412
B35: Argentina | C35: 3363545.8 | D35: 6927718.9 | E35: 3359498.3 | F35: 4466675.2 | G35: 1844898.6 | I35: Madagascar | J35: 5700227.4 | K35: 9621657.5 | L35: 10833930 | M35: 8290055.2 | N35: 6941169.1 | O35: =SUM(J35:N35) -> 41387040
B36: Armenia | D36: 2893.8 | I36: Indonesia | J36: 7063267.5 | K36: 8522716.6 | L36: 7274854.4 | M36: 1063449.2 | N36: 15838404 | O36: =SUM(J36:N36) -> 39762692
B37: Australia | C37: 876.456 | I37: Japan | J37: 678728.9 | K37: 1548278.8 | L37: 8264505.7 | M37: 8045382.9 | N37: 7673656.5 | O37: =SUM(J37:N37) -> 26210553
B38: Azerbaijan | E38: 281946 | F38: 69958.14 | G38: 147 | I38: United States | J38: 3206489.7 | K38: 2142231.7 | L38: 13122243 | M38: 3718331.4 | N38: 2867336.5 | O38: =SUM(J38:N38) -> 25056632
B39: Belarus | C39: 664916.7 | D39: 514044.26 | E39: 242260.2 | I39: Malaysia | J39: 435644.16 | K39: 1623657.9 | L39: 2685642.3 | M39: 4288530.7 | N39: 13623870 | O39: =SUM(J39:N39) -> 22657345
B40: Bhutan | E40: 5040 | F40: 12835.326 | G40: 12096 | I40: Portugal | J40: 3515728.6 | K40: 2553686.4 | L40: 3187715.6 | M40: 32806.2 | N40: 11462119 | O40: =SUM(J40:N40) -> 20752056
B41: Bolivia | C41: 1113 | I41: Argentina | J41: 3363545.8 | K41: 6927718.9 | L41: 3359498.3 | M41: 4466675.2 | N41: 1844898.6 | O41: =SUM(J41:N41) -> 19962337
B42: Bosnia and Herzegovina | D42: 3729.6 | E42: 9164.4 | F42: 161575.68 | G42: 40177.2 | I42: Cambodia | J42: 1656860.9 | K42: 2643874.9 | L42: 3910095.6 | M42: 3709304.5 | N42: 4255330.2 | O42: =SUM(J42:N42) -> 16175466
B43: Brazil | C43: 145270.99 | D43: 3536381.2 | E43: 16034277 | F43: 20793505 | G43: 21901979 | I43: Myanmar | J43: 2502203.4 | K43: 11662789 | L43: 1700313 | M43: -615649.61 | N43: 294346.84 | O43: =SUM(J43:N43) -> 15544002
B44: Bulgaria | E44: 10213.602 | F44: 11206.44 | G44: 2643.06 | I44: Philippines | J44: 928782.46 | K44: 3856477.9 | L44: 2796599.5 | M44: 4975862.5 | N44: 2130549 | O44: =SUM(J44:N44) -> 14688271
B45: Cambodia | C45: 1656860.9 | D45: 2643874.9 | E45: 3910095.6 | F45: 3709304.5 | G45: 4255330.2 | I45: Russia | J45: 1209360.6 | K45: 2507027.4 | L45: 728176.89 | M45: 4435974.6 | N45: 3816036.7 | O45: =SUM(J45:N45) -> 12696576
B46: Cameroon | C46: 470.4 | G46: 1675.8 | I46: Sweden | J46: 478117.79 | K46: 296585.52 | L46: 1330789.8 | M46: 2014536.4 | N46: 2716977.9 | O46: =SUM(J46:N46) -> 6837007.4
B47: Canada | C47: 259911.33 | D47: 211752.74 | E47: 204906.45 | F47: 172431 | G47: 398635.99 | I47: Pakistan | J47: 787382.4 | K47: 1977489.1 | L47: 3113376.2 | M47: 730901.22 | N47: 180307.3 | O47: =SUM(J47:N47) -> 6789456.2
B48: Cape Verde | D48: 1339.8 | I48: Czech Republic | J48: 88729.242 | K48: 330124.37 | L48: 2688727.3 | M48: 1017202.2 | N48: 2476586.3 | O48: =SUM(J48:N48) -> 6601369.4
...

Sheet Sales BD
B2: Sales Data Breakdown per Invoice
B3: Magnimetrics
B5: in EUR
K6: 2 | L6: 3 | M6: 4 | N6: 5
B7: Amount | C7: Client ID | D7: Delivery Method | E7: Quantity | F7: Order # | G7: Invoice # | H7: Date | I7: Invoice Year | J7: Invoice Month | K7: Client Name | L7: Group | M7: Country ID | N7: Country
B8: 124782 | C8: C000-01253 | D8: Truck | E8: 342 | F8: So0000-A9445371 | G8: G0005577 | H8: 41808 | I8: 2014 | J8: 6 | K8: =VLOOKUP($C8,Clients!$B:$F,K$6,0) -> Aibox | L8: =VLOOKUP($C8,Clients!$B:$F,L$6,0) -> Foreign | M8: =VLOOKUP($C8,Clients!$B:$F,M$6,0) -> CN | N8: =VLOOKUP($C8,Clients!$B:$F,N$6,0) -> China
B9: 9009 | C9: C000-01253 | D9: Truck | E9: 1 | F9: So0000-A9445371 | G9: G0005578 | H9: 41808 | I9: 2014 | J9: 6 | K9: =VLOOKUP($C9,Clients!$B:$F,K$6,0) -> Aibox | L9: =VLOOKUP($C9,Clients!$B:$F,L$6,0) -> Foreign | M9: =VLOOKUP($C9,Clients!$B:$F,M$6,0) -> CN | N9: =VLOOKUP($C9,Clients!$B:$F,N$6,0) -> China
B10: 0 | C10: C000-01253 | D10: TNT | E10: 20 | F10: So0010-A3375046 | G10: G0005711 | H10: 41851 | I10: 2014 | J10: 7 | K10: =VLOOKUP($C10,Clients!$B:$F,K$6,0) -> Aibox | L10: =VLOOKUP($C10,Clients!$B:$F,L$6,0) -> Foreign | M10: =VLOOKUP($C10,Clients!$B:$F,M$6,0) -> CN | N10: =VLOOKUP($C10,Clients!$B:$F,N$6,0) -> China
B11: 133039.2 | C11: C000-01253 | D11: Truck | E11: 332 | F11: So0010-A8481054 | G11: G0005930 | H11: 41974 | I11: 2014 | J11: 12 | K11: =VLOOKUP($C11,Clients!$B:$F,K$6,0) -> Aibox | L11: =VLOOKUP($C11,Clients!$B:$F,L$6,0) -> Foreign | M11: =VLOOKUP($C11,Clients!$B:$F,M$6,0) -> CN | N11: =VLOOKUP($C11,Clients!$B:$F,N$6,0) -> China
B12: 8820 | C12: C000-01253 | D12: Truck | E12: 1 | F12: So0010-A8481054 | G12: G0005931 | H12: 41974 | I12: 2014 | J12: 12 | K12: =VLOOKUP($C12,Clients!$B:$F,K$6,0) -> Aibox | L12: =VLOOKUP($C12,Clients!$B:$F,L$6,0) -> Foreign | M12: =VLOOKUP($C12,Clients!$B:$F,M$6,0) -> CN | N12: =VLOOKUP($C12,Clients!$B:$F,N$6,0) -> China
B13: 163485 | C13: C000-01253 | D13: Truck | E13: 350 | F13: So0010-A8481054 | G13: G0007226 | H13: 42314 | I13: 2015 | J13: 11 | K13: =VLOOKUP($C13,Clients!$B:$F,K$6,0) -> Aibox | L13: =VLOOKUP($C13,Clients!$B:$F,L$6,0) -> Foreign | M13: =VLOOKUP($C13,Clients!$B:$F,M$6,0) -> CN | N13: =VLOOKUP($C13,Clients!$B:$F,N$6,0) -> China
B14: 7980 | C14: C000-01253 | D14: Truck | E14: 1 | F14: So0030-A8248408 | G14: G0007227 | H14: 42314 | I14: 2015 | J14: 11 | K14: =VLOOKUP($C14,Clients!$B:$F,K$6,0) -> Aibox | L14: =VLOOKUP($C14,Clients!$B:$F,L$6,0) -> Foreign | M14: =VLOOKUP($C14,Clients!$B:$F,M$6,0) -> CN | N14: =VLOOKUP($C14,Clients!$B:$F,N$6,0) -> China
B15: 6867 | C15: C000-01253 | D15: Truck | E15: 31 | F15: So0030-A8248408 | G15: G0007270 | H15: 42332 | I15: 2015 | J15: 11 | K15: =VLOOKUP($C15,Clients!$B:$F,K$6,0) -> Aibox | L15: =VLOOKUP($C15,Clients!$B:$F,L$6,0) -> Foreign | M15: =VLOOKUP($C15,Clients!$B:$F,M$6,0) -> CN | N15: =VLOOKUP($C15,Clients!$B:$F,N$6,0) -> China
B16: 1302 | C16: C000-01253 | D16: Truck | E16: 1 | F16: So0030-A8248408 | G16: G0007271 | H16: 42332 | I16: 2015 | J16: 11 | K16: =VLOOKUP($C16,Clients!$B:$F,K$6,0) -> Aibox | L16: =VLOOKUP($C16,Clients!$B:$F,L$6,0) -> Foreign | M16: =VLOOKUP($C16,Clients!$B:$F,M$6,0) -> CN | N16: =VLOOKUP($C16,Clients!$B:$F,N$6,0) -> China
B17: 45087 | C17: C000-01253 | D17: Truck | E17: 51 | F17: So0040-A5826116 | G17: G0007783 | H17: 42447 | I17: 2016 | J17: 3 | K17: =VLOOKUP($C17,Clients!$B:$F,K$6,0) -> Aibox | L17: =VLOOKUP($C17,Clients!$B:$F,L$6,0) -> Foreign | M17: =VLOOKUP($C17,Clients!$B:$F,M$6,0) -> CN | N17: =VLOOKUP($C17,Clients!$B:$F,N$6,0) -> China
B18: -45087 | C18: C000-01253 | D18: Truck | E18: -51 | F18: So0040-A7391711 | G18: G0007783 | H18: 42447 | I18: 2016 | J18: 3 | K18: =VLOOKUP($C18,Clients!$B:$F,K$6,0) -> Aibox | L18: =VLOOKUP($C18,Clients!$B:$F,L$6,0) -> Foreign | M18: =VLOOKUP($C18,Clients!$B:$F,M$6,0) -> CN | N18: =VLOOKUP($C18,Clients!$B:$F,N$6,0) -> China
B19: 52353 | C19: C000-01253 | D19: Truck | E19: 51 | F19: So0040-A7404269 | G19: G0007783 | H19: 42447 | I19: 2016 | J19: 3 | K19: =VLOOKUP($C19,Clients!$B:$F,K$6,0) -> Aibox | L19: =VLOOKUP($C19,Clients!$B:$F,L$6,0) -> Foreign | M19: =VLOOKUP($C19,Clients!$B:$F,M$6,0) -> CN | N19: =VLOOKUP($C19,Clients!$B:$F,N$6,0) -> China
... B87: -705.6 | C87: C000-05890 | D87: Truck | E87: -3 | F87: So0050-A4661098 | G87: G0008307 | H87: 42523 | I87: 2016 | J87: 6 | K87: =VLOOKUP($C87,Clients!$B:$F,K$6,0) -> Ainyx | L87: =VLOOKUP($C87,Clients!$B:$F,L$6,0) -> Foreign | M87: =VLOOKUP($C87,Clients!$B:$F,M$6,0) -> ID | N87: =VLOOKUP($C87,Clients!$B:$F,N$6,0) -> Indonesia
B88: 82299 | C88: C000-05890 | D88: Client pick-up | E88: 0 | F88: #N/A | G88: G0009494 | H88: 42735 | I88: 2016 | J88: 12 | K88: =VLOOKUP($C88,Clients!$B:$F,K$6,0) -> Ainyx | L88: =VLOOKUP($C88,Clients!$B:$F,L$6,0) -> Foreign | M88: =VLOOKUP($C88,Clients!$B:$F,M$6,0) -> ID | N88: =VLOOKUP($C88,Clients!$B:$F,N$6,0) -> Indonesia
B89: 82299 | C89: C000-05890 | D89: Client pick-up | E89: 0 | F89: So2990-A0806309 | G89: G0009494 | H89: 42767 | I89: 2017 | J89: 2 | K89: =VLOOKUP($C89,Clients!$B:$F,K$6,0) -> Ainyx | L89: =VLOOKUP($C89,Clients!$B:$F,L$6,0) -> Foreign | M89: =VLOOKUP($C89,Clients!$B:$F,M$6,0) -> ID | N89: =VLOOKUP($C89,Clients!$B:$F,N$6,0) -> Indonesia
B90: 0 | C90: C000-05890 | D90: Truck | E90: 11 | F90: So0070-A6789086 | G90: G0010222 | H90: 42881 | I90: 2017 | J90: 5 | K90: =VLOOKUP($C90,Clients!$B:$F,K$6,0) -> Ainyx | L90: =VLOOKUP($C90,Clients!$B:$F,L$6,0) -> Foreign | M90: =VLOOKUP($C90,Clients!$B:$F,M$6,0) -> ID | N90: =VLOOKUP($C90,Clients!$B:$F,N$6,0) -> Indonesia
B91: 0 | C91: C000-05890 | D91: Truck | E91: -11 | F91: So0080-A3626494 | G91: G0010775 | H91: 42934 | I91: 2017 | J91: 7 | K91: =VLOOKUP($C91,Clients!$B:$F,K$6,0) -> Ainyx | L91: =VLOOKUP($C91,Clients!$B:$F,L$6,0) -> Foreign | M91: =VLOOKUP($C91,Clients!$B:$F,M$6,0) -> ID | N91: =VLOOKUP($C91,Clients!$B:$F,N$6,0) -> Indonesia
B92: 0 | C92: C000-05890 | D92: Truck | E92: 4 | F92: So0100-A6685174 | G92: G0012764 | H92: 43263 | I92: 2018 | J92: 6 | K92: =VLOOKUP($C92,Clients!$B:$F,K$6,0) -> Ainyx | L92: =VLOOKUP($C92,Clients!$B:$F,L$6,0) -> Foreign | M92: =VLOOKUP($C92,Clients!$B:$F,M$6,0) -> ID | N92: =VLOOKUP($C92,Clients!$B:$F,N$6,0) -> Indonesia
B93: 161040.6 | C93: C000-07543 | D93: Truck | E93: 350 | F93: So0000-A2883237 | G93: G0004988 | H93: 41647 | I93: 2014 | J93: 1 | K93: =VLOOKUP($C93,Clients!$B:$F,K$6,0) -> Avaveo | L93: =VLOOKUP($C93,Clients!$B:$F,L$6,0) -> Foreign | M93: =VLOOKUP($C93,Clients!$B:$F,M$6,0) -> PT | N93: =VLOOKUP($C93,Clients!$B:$F,N$6,0) -> Portugal
B94: -161040.6 | C94: C000-07543 | D94: Truck | E94: -350 | F94: So0000-A2902879 | G94: G0000004 | H94: 41647 | I94: 2014 | J94: 1 | K94: =VLOOKUP($C94,Clients!$B:$F,K$6,0) -> Avaveo | L94: =VLOOKUP($C94,Clients!$B:$F,L$6,0) -> Foreign | M94: =VLOOKUP($C94,Clients!$B:$F,M$6,0) -> PT | N94: =VLOOKUP($C94,Clients!$B:$F,N$6,0) -> Portugal
B95: 161040.6 | C95: C000-07543 | D95: Truck | E95: 350 | F95: So0000-A0926091 | G95: G0000007 | H95: 41647 | I95: 2014 | J95: 1 | K95: =VLOOKUP($C95,Clients!$B:$F,K$6,0) -> Avaveo | L95: =VLOOKUP($C95,Clients!$B:$F,L$6,0) -> Foreign | M95: =VLOOKUP($C95,Clients!$B:$F,M$6,0) -> PT | N95: =VLOOKUP($C95,Clients!$B:$F,N$6,0) -> Portugal
B96: 168525 | C96: C000-07543 | D96: Truck | E96: 343 | F96: So0000-A1766876 | G96: G0004996 | H96: 41661 | I96: 2014 | J96: 1 | K96: =VLOOKUP($C96,Clients!$B:$F,K$6,0) -> Avaveo | L96: =VLOOKUP($C96,Clients!$B:$F,L$6,0) -> Foreign | M96: =VLOOKUP($C96,Clients!$B:$F,M$6,0) -> PT | N96: =VLOOKUP($C96,Clients!$B:$F,N$6,0) -> Portugal
B97: 100548 | C97: C000-07543 | D97: Truck | E97: 380 | F97: So0000-A2439799 | G97: G0005000 | H97: 41661 | I97: 2014 | J97: 1 | K97: =VLOOKUP($C97,Clients!$B:$F,K$6,0) -> Avaveo | L97: =VLOOKUP($C97,Clients!$B:$F,L$6,0) -> Foreign | M97: =VLOOKUP($C97,Clients!$B:$F,M$6,0) -> PT | N97: =VLOOKUP($C97,Clients!$B:$F,N$6,0) -> Portugal
B98: 459.9 | C98: C000-07543 | D98: Truck | E98: 1 | F98: So0000-A3637864 | G98: G0005052 | H98: 41684 | I98: 2014 | J98: 2 | K98: =VLOOKUP($C98,Clients!$B:$F,K$6,0) -> Avaveo | L98: =VLOOKUP($C98,Clients!$B:$F,L$6,0) -> Foreign | M98: =VLOOKUP($C98,Clients!$B:$F,M$6,0) -> PT | N98: =VLOOKUP($C98,Clients!$B:$F,N$6,0) -> Portugal
B99: 462 | C99: C000-07543 | D99: Truck | E99: 1 | F99: So0000-A3637864 | G99: G0005053 | H99: 41684 | I99: 2014 | J99: 2 | K99: =VLOOKUP($C99,Clients!$B:$F,K$6,0) -> Avaveo | L99: =VLOOKUP($C99,Clients!$B:$F,L$6,0) -> Foreign | M99: =VLOOKUP($C99,Clients!$B:$F,M$6,0) -> PT | N99: =VLOOKUP($C99,Clients!$B:$F,N$6,0) -> Portugal
B100: 121716 | C100: C000-07543 | D100: Truck | E100: 460 | F100: So0000-A5516774 | G100: G0005278 | H100: 41737 | I100: 2014 | J100: 4 | K100: =VLOOKUP($C100,Clients!$B:$F,K$6,0) -> Avaveo | L100: =VLOOKUP($C100,Clients!$B:$F,L$6,0) -> Foreign | M100: =VLOOKUP($C100,Clients!$B:$F,M$6,0) -> PT | N100: =VLOOKUP($C100,Clients!$B:$F,N$6,0) -> Portugal
... B492: 181612.2 | C492: C000-10198 | D492: Truck | E492: 344 | F492: So0030-A6347501 | G492: G0007058 | H492: 42272 | I492: 2015 | J492: 9 | K492: =VLOOKUP($C492,Clients!$B:$F,K$6,0) -> Gabcube | L492: =VLOOKUP($C492,Clients!$B:$F,L$6,0) -> Foreign | M492: =VLOOKUP($C492,Clients!$B:$F,M$6,0) -> FI | N492: =VLOOKUP($C492,Clients!$B:$F,N$6,0) -> Finland
B493: 67.2 | C493: C000-10198 | D493: Client pick-up | E493: 0 | F493: #N/A | G493: G28/2014 | H493: 42278 | I493: 2015 | J493: 10 | K493: =VLOOKUP($C493,Clients!$B:$F,K$6,0) -> Gabcube | L493: =VLOOKUP($C493,Clients!$B:$F,L$6,0) -> Foreign | M493: =VLOOKUP($C493,Clients!$B:$F,M$6,0) -> FI | N493: =VLOOKUP($C493,Clients!$B:$F,N$6,0) -> Finland
B494: 90.3 | C494: C000-10198 | D494: Client pick-up | E494: 0 | F494: #N/A | G494: G27714 | H494: 42296 | I494: 2015 | J494: 10 | K494: =VLOOKUP($C494,Clients!$B:$F,K$6,0) -> Gabcube | L494: =VLOOKUP($C494,Clients!$B:$F,L$6,0) -> Foreign | M494: =VLOOKUP($C494,Clients!$B:$F,M$6,0) -> FI | N494: =VLOOKUP($C494,Clients!$B:$F,N$6,0) -> Finland
B495: 924.714 | C495: C000-10198 | D495: TNT | E495: 6 | F495: So0030-A8381359 | G495: G0007188 | H495: 42303 | I495: 2015 | J495: 10 | K495: =VLOOKUP($C495,Clients!$B:$F,K$6,0) -> Gabcube | L495: =VLOOKUP($C495,Clients!$B:$F,L$6,0) -> Foreign | M495: =VLOOKUP($C495,Clients!$B:$F,M$6,0) -> FI | N495: =VLOOKUP($C495,Clients!$B:$F,N$6,0) -> Finland
B496: 252 | C496: C000-10198 | D496: TNT | E496: 1 | F496: So0030-A8381359 | G496: G0007189 | H496: 42303 | I496: 2015 | J496: 10 | K496: =VLOOKUP($C496,Clients!$B:$F,K$6,0) -> Gabcube | L496: =VLOOKUP($C496,Clients!$B:$F,L$6,0) -> Foreign | M496: =VLOOKUP($C496,Clients!$B:$F,M$6,0) -> FI | N496: =VLOOKUP($C496,Clients!$B:$F,N$6,0) -> Finland
B497: 193996.95 | C497: C000-10198 | D497: Truck | E497: 397 | F497: So0030-A7867104 | G497: G0007214 | H497: 42311 | I497: 2015 | J497: 11 | K497: =VLOOKUP($C497,Clients!$B:$F,K$6,0) -> Gabcube | L497: =VLOOKUP($C497,Clients!$B:$F,L$6,0) -> Foreign | M497: =VLOOKUP($C497,Clients!$B:$F,M$6,0) -> FI | N497: =VLOOKUP($C497,Clients!$B:$F,N$6,0) -> Finland
B498: 2856.21 | C498: C000-10198 | D498: Truck | E498: 106 | F498: So0030-A9653596 | G498: G0007264 | H498: 42329 | I498: 2015 | J498: 11 | K498: =VLOOKUP($C498,Clients!$B:$F,K$6,0) -> Gabcube | L498: =VLOOKUP($C498,Clients!$B:$F,L$6,0) -> Foreign | M498: =VLOOKUP($C498,Clients!$B:$F,M$6,0) -> FI | N498: =VLOOKUP($C498,Clients!$B:$F,N$6,0) -> Finland
B499: 44984.94 | C499: C000-10198 | D499: Truck | E499: 55 | F499: So0030-A9668891 | G499: G0007265 | H499: 42329 | I499: 2015 | J499: 11 | K499: =VLOOKUP($C499,Clients!$B:$F,K$6,0) -> Gabcube | L499: =VLOOKUP($C499,Clients!$B:$F,L$6,0) -> Foreign | M499: =VLOOKUP($C499,Clients!$B:$F,M$6,0) -> FI | N499: =VLOOKUP($C499,Clients!$B:$F,N$6,0) -> Finland
B500: 1381.296 | C500: C000-10198 | D500: Truck | E500: 207.5 | F500: So0040-A1145286 | G500: G0007362 | H500: 42350 | I500: 2015 | J500: 12 | K500: =VLOOKUP($C500,Clients!$B:$F,K$6,0) -> Gabcube | L500: =VLOOKUP($C500,Clients!$B:$F,L$6,0) -> Foreign | M500: =VLOOKUP($C500,Clients!$B:$F,M$6,0) -> FI | N500: =VLOOKUP($C500,Clients!$B:$F,N$6,0) -> Finland
...

Sheet Clients
B2: Clients Info List
B3: Magnimetrics
B5: in EUR
B7: Client ID | C7: Client Name | D7: Group | E7: Country ID | F7: Country
B8: C010-88386 | C8: Abata | D8: Foreign | E8: CN | F8: China
B9: C007-40392 | C9: Abatz | D9: Foreign | E9: US | F9: United States
B10: C006-20277 | C10: Agimba | D10: Foreign | E10: CN | F10: China
B11: C011-88726 | C11: Agivu | D11: Foreign | E11: ID | F11: Indonesia
B12: C000-01253 | C12: Aibox | D12: Foreign | E12: CN | F12: China
B13: C004-68885 | C13: Ailane | D13: Foreign | E13: PE | F13: Peru
B14: C012-04835 | C14: Aimbo | D14: Foreign | E14: PL | F14: Poland
B15: C010-94896 | C15: Aimbu | D15: Foreign | E15: JM | F15: Jamaica
B16: C000-05890 | C16: Ainyx | D16: Foreign | E16: ID | F16: Indonesia
B17: C008-93375 | C17: Aivee | D17: Foreign | E17: US | F17: United States
B18: C010-89588 | C18: Avamba | D18: Foreign | E18: RU | F18: Russia
... B765: C005-89762 | C765: Johnson-Lubowitz | D765: Foreign | E765: CM | F765: Cameroon
